BEGIN:VCALENDAR
VERSION:2.0
PRODID:-//Marshfield Community Rib Cook-off (MCRCO) - ECPv6.15.20//NONSGML v1.0//EN
CALSCALE:GREGORIAN
METHOD:PUBLISH
X-ORIGINAL-URL:https://mcrco.org
X-WR-CALDESC:Events for Marshfield Community Rib Cook-off (MCRCO)
REFRESH-INTERVAL;VALUE=DURATION:PT1H
X-Robots-Tag:noindex
X-PUBLISHED-TTL:PT1H
BEGIN:VTIMEZONE
TZID:America/New_York
BEGIN:DAYLIGHT
TZOFFSETFROM:-0500
TZOFFSETTO:-0400
TZNAME:EDT
DTSTART:20210314T070000
END:DAYLIGHT
BEGIN:STANDARD
TZOFFSETFROM:-0400
TZOFFSETTO:-0500
TZNAME:EST
DTSTART:20211107T060000
END:STANDARD
BEGIN:DAYLIGHT
TZOFFSETFROM:-0500
TZOFFSETTO:-0400
TZNAME:EDT
DTSTART:20220313T070000
END:DAYLIGHT
BEGIN:STANDARD
TZOFFSETFROM:-0400
TZOFFSETTO:-0500
TZNAME:EST
DTSTART:20221106T060000
END:STANDARD
BEGIN:DAYLIGHT
TZOFFSETFROM:-0500
TZOFFSETTO:-0400
TZNAME:EDT
DTSTART:20230312T070000
END:DAYLIGHT
BEGIN:STANDARD
TZOFFSETFROM:-0400
TZOFFSETTO:-0500
TZNAME:EST
DTSTART:20231105T060000
END:STANDARD
BEGIN:DAYLIGHT
TZOFFSETFROM:-0500
TZOFFSETTO:-0400
TZNAME:EDT
DTSTART:20240310T070000
END:DAYLIGHT
BEGIN:STANDARD
TZOFFSETFROM:-0400
TZOFFSETTO:-0500
TZNAME:EST
DTSTART:20241103T060000
END:STANDARD
BEGIN:DAYLIGHT
TZOFFSETFROM:-0500
TZOFFSETTO:-0400
TZNAME:EDT
DTSTART:20250309T070000
END:DAYLIGHT
BEGIN:STANDARD
TZOFFSETFROM:-0400
TZOFFSETTO:-0500
TZNAME:EST
DTSTART:20251102T060000
END:STANDARD
BEGIN:DAYLIGHT
TZOFFSETFROM:-0500
TZOFFSETTO:-0400
TZNAME:EDT
DTSTART:20260308T070000
END:DAYLIGHT
BEGIN:STANDARD
TZOFFSETFROM:-0400
TZOFFSETTO:-0500
TZNAME:EST
DTSTART:20261101T060000
END:STANDARD
END:VTIMEZONE
BEGIN:VEVENT
DTSTART;TZID=America/New_York:20250906T120000
DTEND;TZID=America/New_York:20250906T190000
DTSTAMP:20260424T182041
CREATED:20250117T224007Z
LAST-MODIFIED:20250906T054611Z
UID:10000013-1757160000-1757185200@mcrco.org
SUMMARY:2025 Marshfield Community Rib Cook-Off 12pm to 7pm
DESCRIPTION:The 17th Annual Marshfield Community Rib Cook-off competition and community fundraiser returns to the Marshfield Fairgrounds on Saturday Sept. 6th from 12pm to 7pm. \nVisit Plan Your Day—Your Complete Guide to The 2025 MCRCO Rib Cook-off for details. \nWristbands are no longer be available on this page. Come to the Rib Cook-off today! Wristbands are available at the gate for $12pp starting at 12pm. \nChildren under 12 attend for free. Free parking\, too! \nQuestions? Reach out to info@mcrco.org\n \n  \n 
URL:https://mcrco.org/event/2025-marshfield-community-rib-cook-off-12pm-to-7pm/
LOCATION:Marshfield Fairgrounds\, 140 Main Street\, Marshfield\, MA\, 02050\, United States
CATEGORIES:2025 MCRCO
ATTACH;FMTTYPE=image/jpeg:https://mcrco.org/wp-content/uploads/2025/02/Rib-Cook-Off-12-to-7-2025-Featured-2.jpg
ORGANIZER;CN="MCRCO":MAILTO:info@mcrco.org
END:VEVENT
BEGIN:VEVENT
DTSTART;TZID=America/New_York:20240907T170000
DTEND;TZID=America/New_York:20240907T190000
DTSTAMP:20260424T182041
CREATED:20240508T122701Z
LAST-MODIFIED:20240906T155222Z
UID:10000011-1725728400-1725735600@mcrco.org
SUMMARY:2024 MCRCO After Hours
DESCRIPTION:The MCRCO presents a brand-new after hours event “When the Smoke Clears.” When the Rib Cook-off ends\, the fun continues! Enjoy a late summer’s evening supporting our community while listening to great music. Divas With A Twist will have you dancing and singing and there will be lots to eat and drink. Event Details \nBuy your ticket in advance and save!\nPrice is $15.00 per person in advance ($20.00 per person at the gate on Sept. 7\, 2024). \nPurchase 2024 MCRCO Rib Cook-Off Wristbands* \n*To purchase admission for BOTH Rib Cook-off AND After-Hours\, add one to your cart\, and continue shopping to add the second event.  \n\n  \n 
URL:https://mcrco.org/event/2024-mcrco-after-hours/
LOCATION:Marshfield Fairgrounds\, 140 Main Street\, Marshfield\, MA\, 02050\, United States
CATEGORIES:2024 MCRCO
ATTACH;FMTTYPE=image/jpeg:https://mcrco.org/wp-content/uploads/2024/04/Divas-after-hours-4.jpg
ORGANIZER;CN="MCRCO":MAILTO:info@mcrco.org
END:VEVENT
BEGIN:VEVENT
DTSTART;TZID=America/New_York:20240907T120000
DTEND;TZID=America/New_York:20240907T170000
DTSTAMP:20260424T182041
CREATED:20240129T211503Z
LAST-MODIFIED:20240906T155300Z
UID:10000010-1725710400-1725728400@mcrco.org
SUMMARY:2024 Marshfield Community Rib Cook-Off 12pm to 5pm
DESCRIPTION:The 16th Annual Marshfield Community Rib Cook-off competition and community fundraiser returns to the Marshfield Fairgrounds on Saturday Sept. 7th from 12pm to 5pm.  Event Details \nBuy your ticket in advance and save!\nPrice is $7.00 per person in advance ($10.00 per person at the gate on Sept. 7\, 2024). \nThis year\, MCRCO has extended the fun and the FUNdraising with our new after hours event\, “When the Smoke Clears” with Divas With a Twist! Rib Cook-off wristbands are valid only during the hours of 12pm and 5pm. \n*To purchase admission for BOTH Rib Cook-off AND After-Hours\, add one to your cart\, and continue shopping to add the second event.  \nPurchase 2024 MCRCO After Hours Tickets \n 
URL:https://mcrco.org/event/2024-marshfield-community-rib-cook-off/
LOCATION:Marshfield Fairgrounds\, 140 Main Street\, Marshfield\, MA\, 02050\, United States
CATEGORIES:2024 MCRCO
ATTACH;FMTTYPE=image/jpeg:https://mcrco.org/wp-content/uploads/2024/04/Rib-Cook-Off-12-to-5-2-3.jpg
ORGANIZER;CN="MCRCO":MAILTO:info@mcrco.org
END:VEVENT
BEGIN:VEVENT
DTSTART;TZID=America/New_York:20231128T080000
DTEND;TZID=America/New_York:20231231T170000
DTSTAMP:20260424T182041
CREATED:20231128T151041Z
LAST-MODIFIED:20231128T151041Z
UID:10000009-1701158400-1704042000@mcrco.org
SUMMARY:Annual Giving
DESCRIPTION:
URL:https://mcrco.org/event/annual-giving/
ORGANIZER;CN="MCRCO":MAILTO:info@mcrco.org
END:VEVENT
BEGIN:VEVENT
DTSTART;TZID=America/New_York:20230909T120000
DTEND;TZID=America/New_York:20230909T170000
DTSTAMP:20260424T182041
CREATED:20221028T151315Z
LAST-MODIFIED:20230908T175502Z
UID:10000005-1694260800-1694278800@mcrco.org
SUMMARY:2023 Marshfield Community Rib Cook-off - Tickets Available at the Gate at 12pm!
DESCRIPTION:The 15th Annual Marshfield Community Cook-Off returns Saturday September 9th\, 2023.\nAdvanced ticket sales are closed but tickets are available at the Gate starting at 12pm on Saturday September 9. We’re looking forward to seeing you there!\nThe Marshfield Community Rib Cook-off [MCRCO] is a family-oriented fun-filled event supporting charitable organizations who embody the MCRCO’s mission to support local youth and families facing economic hardship and food and housing insecurity. Three thousand+ BBQ enthusiasts gather at the Marshfield Fairgrounds in mid September each year. Teams fire up their smokers as early as 5am that morning and prepare their highly curated rubs and sauces aimed at wowing our judge panel comprised of culinary experts and community celebrities who know a thing or two about great ribs! \nWhile ribs are the main event\, there’s so much more – including live music and fun for the whole family! The event features live music from Cindy Lou & Three Fine Fellas whose sultry and smoky (pun intended) sounds will emanate from the main stage; Duxbury-based upbeat cover band Despite Dwight; and husband and wife acoustic duo “Sam and Siobhán”. Kids will enjoy the annual Touch a Truck event and backyard games. \nView our Frequently Asked Questions  Did we miss something? Contact us at info@mcrco.org\n \nWristbands are available for $7.00 at the Gate on September 9th. \nWristbands are required for Adults and Children ages 11 and up (free admission ages 10 and under but they must wear wristbands as well). Enjoy FREE parking! \nWristbands must be worn by all attendees.  \nThe admission fee does not include the cost of food and beverage during the event. \nFood and Beverage\nRib tickets are $2.00 each and are available for purchase at check-in by cash or credit card. \nAdditional food and beverage items including sides\, beer\, water\, can be purchased during the event using cash or credit cards. \nAttention Guests with Allergies:\nWe understand the importance of allergen awareness and given the nature of our event we cannot assure the absence of or possible contact with allergens. \nNO PETS ALLOWED: No dogs or pets of any kind are allowed at the event with the exception of service dogs. Service dogs will be admitted as long as they are wearing a vest that identifies them as such and are leashed at all times. \nView our Frequently Asked Questions
URL:https://mcrco.org/event/2023-marshfield-community-rib-cook-off/
LOCATION:Marshfield Fairgrounds\, 140 Main Street\, Marshfield\, MA\, 02050\, United States
CATEGORIES:2023 MCRCO
ATTACH;FMTTYPE=image/jpeg:https://mcrco.org/wp-content/uploads/2022/10/MCRCO-2023-Event.jpg
ORGANIZER;CN="MCRCO":MAILTO:info@mcrco.org
END:VEVENT
BEGIN:VEVENT
DTSTART;TZID=America/New_York:20230626T170000
DTEND;TZID=America/New_York:20230626T190000
DTSTAMP:20260424T182041
CREATED:20230601T164611Z
LAST-MODIFIED:20230619T211203Z
UID:10000008-1687798800-1687806000@mcrco.org
SUMMARY:Informational Reception to Learn More about MCRCO
DESCRIPTION:Join us on Monday June 26th from 5:00pm to 7:00pm at an informational reception hosted by AccuRisk at Osterio Vivo in Pembroke.  Enjoy cocktails and hors d’oeuvres and learn more about MCRCO’s local impact and exciting sponsorship opportunities.  Come as you are — from work\, play\, or the beach — and raise a glass with fellow community members while learning how together we can make a difference. We hope you’ll join us! \nKindly RSVP below.  There is no cost or sponsorship obligation to attend.  \nCan’t make it to the reception? Reach out directly to MCRCO to learn more about sponsorship. \nAccuRisk is the lead sponsor of  The 15th Annual Marshfield Community Rib Cook-off (MCRCO) event\, planned for Sept. 9\, 2023. Wristbands are on sale now!
URL:https://mcrco.org/event/informational-reception-to-learn-more-about-mcrco/
LOCATION:Osteria Vivo\, 254 Church Street\, Pembroke\, MA\, 02359\, United States
CATEGORIES:2023 MCRCO
ATTACH;FMTTYPE=image/jpeg:https://mcrco.org/wp-content/uploads/2023/06/Copy-of-Join-the-Marshfield-Community-Rib-Cook-Off-and-AccuRisk-at-Osteria-Vivo.jpg
ORGANIZER;CN="AccuRisk":MAILTO:info@accurisksolutions.com
END:VEVENT
BEGIN:VEVENT
DTSTART;TZID=America/New_York:20220910T120000
DTEND;TZID=America/New_York:20220910T170000
DTSTAMP:20260424T182041
CREATED:20220505T204859Z
LAST-MODIFIED:20220909T210741Z
UID:10000003-1662811200-1662829200@mcrco.org
SUMMARY:2022 Marshfield Community Rib Cook-off
DESCRIPTION:Gates Open Saturday 9/10 at 12pm!\nWristbands are unlimited and available at the gate for $7 per person on the day of the event.  Wristbands are required for Adults and Children ages 11 and up (free admission ages 10 and under). Enjoy FREE parking! \nWristbands must be worn by all attendees. The admission fee does not include the cost of food and beverage during the event. \nFood and Beverage\nRib tickets will be available for purchase at check-in by cash or credit card. \nAdditional food and beverage items including sides\, beer\, water\, can be purchased during the event using cash or credit cards. \nFood items available (priced at $3 and up) \n\nBaked Beans\nCole Slaw\nPotato Salad\nCorn Bread\nCorn Bread Pudding\nBurger\nCheeseburger\nHot Dog\nItalian Sausage\nHomemade Potato Chips\nMac & Cheese\nCollards & Pulled Pork\nB’s Homemade Ice\n\nAttention Guests with Allergies:\nWe understand the importance of allergen awareness and given the nature of our event we cannot assure the absence of or possible contact with allergens. \nNO PETS ALLOWED: No dogs or pets of any kind are allowed at the event with the exception of service dogs. Service dogs will be admitted as long as they are wearing a vest that identifies them as such and are leashed at all times.  \nSponsorship opportunities are available. Learn more…
URL:https://mcrco.org/event/2022-marshfield-community-rib-cook-off/
LOCATION:Marshfield Fairgrounds\, 140 Main Street\, Marshfield\, MA\, 02050\, United States
ATTACH;FMTTYPE=image/webp:https://mcrco.org/wp-content/uploads/2022/05/5e684ed4-898a-466c-b7c2-b7a4f501658d-phoMA_MA_ribs1_new0915rc.webp
ORGANIZER;CN="MCRCO":MAILTO:info@mcrco.org
END:VEVENT
END:VCALENDAR