BEGIN:VCALENDAR
VERSION:2.0
PRODID:-//Marshfield Community Rib Cook-off (MCRCO) - ECPv6.15.20//NONSGML v1.0//EN
CALSCALE:GREGORIAN
METHOD:PUBLISH
X-WR-CALNAME:Marshfield Community Rib Cook-off (MCRCO)
X-ORIGINAL-URL:https://mcrco.org
X-WR-CALDESC:Events for Marshfield Community Rib Cook-off (MCRCO)
REFRESH-INTERVAL;VALUE=DURATION:PT1H
X-Robots-Tag:noindex
X-PUBLISHED-TTL:PT1H
BEGIN:VTIMEZONE
TZID:America/New_York
BEGIN:DAYLIGHT
TZOFFSETFROM:-0500
TZOFFSETTO:-0400
TZNAME:EDT
DTSTART:20210314T070000
END:DAYLIGHT
BEGIN:STANDARD
TZOFFSETFROM:-0400
TZOFFSETTO:-0500
TZNAME:EST
DTSTART:20211107T060000
END:STANDARD
BEGIN:DAYLIGHT
TZOFFSETFROM:-0500
TZOFFSETTO:-0400
TZNAME:EDT
DTSTART:20220313T070000
END:DAYLIGHT
BEGIN:STANDARD
TZOFFSETFROM:-0400
TZOFFSETTO:-0500
TZNAME:EST
DTSTART:20221106T060000
END:STANDARD
BEGIN:DAYLIGHT
TZOFFSETFROM:-0500
TZOFFSETTO:-0400
TZNAME:EDT
DTSTART:20230312T070000
END:DAYLIGHT
BEGIN:STANDARD
TZOFFSETFROM:-0400
TZOFFSETTO:-0500
TZNAME:EST
DTSTART:20231105T060000
END:STANDARD
END:VTIMEZONE
BEGIN:VEVENT
DTSTART;TZID=America/New_York:20220910T120000
DTEND;TZID=America/New_York:20220910T170000
DTSTAMP:20260424T182814
CREATED:20220505T204859Z
LAST-MODIFIED:20220909T210741Z
UID:5290-1662811200-1662829200@mcrco.org
SUMMARY:2022 Marshfield Community Rib Cook-off
DESCRIPTION:Gates Open Saturday 9/10 at 12pm!\nWristbands are unlimited and available at the gate for $7 per person on the day of the event.  Wristbands are required for Adults and Children ages 11 and up (free admission ages 10 and under). Enjoy FREE parking! \nWristbands must be worn by all attendees. The admission fee does not include the cost of food and beverage during the event. \nFood and Beverage\nRib tickets will be available for purchase at check-in by cash or credit card. \nAdditional food and beverage items including sides\, beer\, water\, can be purchased during the event using cash or credit cards. \nFood items available (priced at $3 and up) \n\nBaked Beans\nCole Slaw\nPotato Salad\nCorn Bread\nCorn Bread Pudding\nBurger\nCheeseburger\nHot Dog\nItalian Sausage\nHomemade Potato Chips\nMac & Cheese\nCollards & Pulled Pork\nB’s Homemade Ice\n\nAttention Guests with Allergies:\nWe understand the importance of allergen awareness and given the nature of our event we cannot assure the absence of or possible contact with allergens. \nNO PETS ALLOWED: No dogs or pets of any kind are allowed at the event with the exception of service dogs. Service dogs will be admitted as long as they are wearing a vest that identifies them as such and are leashed at all times.  \nSponsorship opportunities are available. Learn more…
URL:https://mcrco.org/event/2022-marshfield-community-rib-cook-off/
LOCATION:Marshfield Fairgrounds\, 140 Main Street\, Marshfield\, MA\, 02050\, United States
ATTACH;FMTTYPE=image/webp:https://mcrco.org/wp-content/uploads/2022/05/5e684ed4-898a-466c-b7c2-b7a4f501658d-phoMA_MA_ribs1_new0915rc.webp
ORGANIZER;CN="MCRCO":MAILTO:info@mcrco.org
END:VEVENT
END:VCALENDAR